BEGIN:VCALENDAR
VERSION:2.0
PRODID:-//AIS//Agenda//EN
CALSCALE:GREGORIAN
METHOD:PUBLISH
BEGIN:VEVENT
UID:ais-502-50dcbc12-1d4f-453d-86e0-8b1eab3173de
DTSTAMP:20260423T210259Z
DTSTART:20260506T050000Z
DTEND:20260506T050200Z
SUMMARY:Opening: the Future of the Airside
DESCRIPTION:Speakers: Ilya Burkin\\n\\nOverview: Welcome to Global Airsid
 e Innovation Summit 2026.
URL:https://airsideinnovationsummit.com/agenda
END:VEVENT
END:VCALENDAR
