BEGIN:VCALENDAR
VERSION:2.0
PRODID:-//AIS//Agenda//EN
CALSCALE:GREGORIAN
METHOD:PUBLISH
BEGIN:VEVENT
UID:ais-514-2b8d848b-cb6f-44df-a73f-b6ebdb45b462
DTSTAMP:20260423T205512Z
DTSTART:20260506T050500Z
DTEND:20260506T050900Z
SUMMARY:Leading the Transformation of the Airside
DESCRIPTION:Speakers: Thorben Burghardt\\n\\nOverview: The CTO of ADB SAF
 EGATE shares a strategic outlook on the future of airport operations\, hi
 ghlighting the urgency of innovation and the global momentum toward Airsi
 de 4.0.
URL:https://airsideinnovationsummit.com/agenda
END:VEVENT
END:VCALENDAR
