BEGIN:VCALENDAR
VERSION:2.0
PRODID:-//AIS//Agenda//EN
CALSCALE:GREGORIAN
METHOD:PUBLISH
BEGIN:VEVENT
UID:ais-517-cc46d622-743f-47d8-9e68-018d192f955b
DTSTAMP:20260423T205841Z
DTSTART:20260506T051500Z
DTEND:20260506T051900Z
SUMMARY:Inside Airside 4.0: Strategy\, Vision &#038\; Innovation
DESCRIPTION:Speakers: Ilya Burkin & Regardt Willer\\n\\nOverview: A deep-
 dive conversation unpacking what Airside 4.0 really means\, why it matter
 s\, and how it will redefine the airport ecosystem in the coming decade.
URL:https://airsideinnovationsummit.com/agenda
END:VEVENT
END:VCALENDAR
