BEGIN:VCALENDAR
VERSION:2.0
PRODID:-//AIS//Agenda//EN
CALSCALE:GREGORIAN
METHOD:PUBLISH
BEGIN:VEVENT
UID:ais-520-a389926d-7664-410b-b14d-351304166afd
DTSTAMP:20260423T210003Z
DTSTART:20260506T052000Z
DTEND:20260506T055500Z
SUMMARY:Intelligent Infrastructure: Unlocking Real-Time Airside Visibilit
 y
DESCRIPTION:Speakers: Paul Hart & Ilya Burkin\\n\\nOverview: An explorati
 on of how intelligent lighting and connected infrastructure deliver real-
 time asset visibility\, enabling airports to operate with greater safety 
 and resilience.
URL:https://airsideinnovationsummit.com/agenda
END:VEVENT
END:VCALENDAR
