BEGIN:VCALENDAR
VERSION:2.0
PRODID:-//AIS//Agenda//EN
CALSCALE:GREGORIAN
METHOD:PUBLISH
BEGIN:VEVENT
UID:ais-740-819d8c73-12f9-4f66-a448-aa3e9151b688
DTSTAMP:20260423T210019Z
DTSTART:20260506T054500Z
DTEND:20260506T064500Z
SUMMARY:USE CASE: Service Road Safety Lights
DESCRIPTION:Speakers: Paul Hart\\n\\nOverview: Demonstrates how ADAL enha
 nce situational awareness\, improve visibility and reduce vehicle-runway 
 incursions.
URL:https://airsideinnovationsummit.com/agenda
END:VEVENT
END:VCALENDAR
