BEGIN:VCALENDAR
VERSION:2.0
PRODID:-//AIS//Agenda//EN
CALSCALE:GREGORIAN
METHOD:PUBLISH
BEGIN:VEVENT
UID:ais-743-197d3bfa-3bc7-4357-aecd-6abddd65426d
DTSTAMP:20260423T205847Z
DTSTART:20260506T060000Z
DTEND:20260506T063500Z
SUMMARY:Predict. Prevent. Perform: Transforming Airside Maintenance
DESCRIPTION:Speakers: Niels Burez & Ilya Burkin\\n\\nOverview: A breakthr
 ough look into predictive maintenance and how data-driven insights elimin
 ate surprises\, reduce downtime\, and extend asset life across the airsid
 e.
URL:https://airsideinnovationsummit.com/agenda
END:VEVENT
END:VCALENDAR
