BEGIN:VCALENDAR
VERSION:2.0
PRODID:-//AIS//Agenda//EN
CALSCALE:GREGORIAN
METHOD:PUBLISH
BEGIN:VEVENT
UID:ais-746-944dc94d-5cef-4f95-aa0f-183836665f3c
DTSTAMP:20260423T205540Z
DTSTART:20260506T062000Z
DTEND:20260506T063000Z
SUMMARY:USE CASE : Intelligent PAPI Alignment
DESCRIPTION:Speakers: Niels Burez\\n\\nOverview: Shows how advanced senso
 r-enabled PAPI systems and AXON EQ data help detect alignment issues earl
 y\, improving runway safety and operational efficiency.
URL:https://airsideinnovationsummit.com/agenda
END:VEVENT
END:VCALENDAR
