BEGIN:VCALENDAR
VERSION:2.0
PRODID:-//AIS//Agenda//EN
CALSCALE:GREGORIAN
METHOD:PUBLISH
BEGIN:VEVENT
UID:ais-749-83d4ff71-e5fd-40eb-bbdd-3ad3f372fe98
DTSTAMP:20260423T205519Z
DTSTART:20260506T062500Z
DTEND:20260506T072500Z
SUMMARY:USE CASE : Intelligence Without Borders
DESCRIPTION:Speakers: Niels Burez\\n\\nOverview: Demonstrates multilingua
 l Airside Intelligence capabilities that support global teams with cleare
 r insights and more accessible decision-making tools.
URL:https://airsideinnovationsummit.com/agenda
END:VEVENT
END:VCALENDAR
