BEGIN:VCALENDAR
VERSION:2.0
PRODID:-//AIS//Agenda//EN
CALSCALE:GREGORIAN
METHOD:PUBLISH
BEGIN:VEVENT
UID:ais-752-69700c36-cef3-4da8-8eb1-9a8c22fe189d
DTSTAMP:20260423T205357Z
DTSTART:20260506T063500Z
DTEND:20260506T065500Z
SUMMARY:APAC Aviation 2030: Scaling for Unprecedented Growth
DESCRIPTION:Speakers: Regardt Willer\, Bryan Thompson\, Gemma Williams\, 
 & Scott Woodward\\n\\nOverview: Regional experts discuss the challenges a
 nd opportunities behind APAC’s explosive growth\, exploring how airport
 s can scale safely\, efficiently\, and sustainably.
URL:https://airsideinnovationsummit.com/agenda
END:VEVENT
END:VCALENDAR
