BEGIN:VCALENDAR
VERSION:2.0
PRODID:-//AIS//Agenda//EN
CALSCALE:GREGORIAN
METHOD:PUBLISH
BEGIN:VEVENT
UID:ais-754-bcde765f-e199-479a-9d3c-8e713d4cda34
DTSTAMP:20260423T205422Z
DTSTART:20260506T103500Z
DTEND:20260506T105500Z
SUMMARY:Future-Ready Airports: Navigating Complexity Across Europe\, Midd
 le East and Africa
DESCRIPTION:Speakers: Regardt Willer\, Anurag Shandilya\, Arnaud Guihard\
 , & Dr. Simon Peter Njoroge\\n\\nOverview: A conversation on regulatory p
 ressure\, sustainability mandates\, and mega-hub development\, highlighti
 ng what readiness means for mature and emerging airports.
URL:https://airsideinnovationsummit.com/agenda
END:VEVENT
END:VCALENDAR
