BEGIN:VCALENDAR
VERSION:2.0
PRODID:-//AIS//Agenda//EN
CALSCALE:GREGORIAN
METHOD:PUBLISH
BEGIN:VEVENT
UID:ais-756-d61fdbcf-ef4f-429c-9320-ad4ba898b9ef
DTSTAMP:20260423T205734Z
DTSTART:20260506T070500Z
DTEND:20260506T074000Z
SUMMARY:Redefining Apron Operations for the Autonomous Future
DESCRIPTION:Speakers: Peter Håkansson & Ilya Burkin\\n\\nOverview: Focus
 ing on elevating the efficiency\, safety\, and sustainability of aircraft
  surface movements and management.\\n\\nBy leveraging state-of-the-art te
 chnologies and strategies such as “Follow the Greens” and detailed tu
 rnaround tracking\, this initiative aims to optimize the flow of ground t
 raffic\, ensuring smooth operations even under challenging conditions.
URL:https://airsideinnovationsummit.com/agenda
END:VEVENT
END:VCALENDAR
