BEGIN:VCALENDAR
VERSION:2.0
PRODID:-//AIS//Agenda//EN
CALSCALE:GREGORIAN
METHOD:PUBLISH
BEGIN:VEVENT
UID:ais-759-d2981163-1b5e-4725-8fe2-a2195c3dc691
DTSTAMP:20260423T205702Z
DTSTART:20260506T072500Z
DTEND:20260506T073000Z
SUMMARY:USE CASE: Apron Operations Reimagined
DESCRIPTION:Speakers: Peter Håkansson\\n\\nOverview: Demonstrates how AP
 RON Manager integrates AI-driven insights for smoother\, safer apron oper
 ations.
URL:https://airsideinnovationsummit.com/agenda
END:VEVENT
END:VCALENDAR
