BEGIN:VCALENDAR
VERSION:2.0
PRODID:-//AIS//Agenda//EN
CALSCALE:GREGORIAN
METHOD:PUBLISH
BEGIN:VEVENT
UID:ais-761-829ddb3b-3552-40ea-8a2c-58dfa53d9bb6
DTSTAMP:20260423T205545Z
DTSTART:20260506T073000Z
DTEND:20260506T073500Z
SUMMARY:USE CASE : AI-Enhanced Controller Workflow
DESCRIPTION:Speakers: Peter Håkansson\\n\\nOverview: Shows how AI-powere
 d voice-to-text improves controller workflow\, accuracy\, and situational
  awareness inside the Integrated Controller Working Position.
URL:https://airsideinnovationsummit.com/agenda
END:VEVENT
END:VCALENDAR
