BEGIN:VCALENDAR
VERSION:2.0
PRODID:-//AIS//Agenda//EN
CALSCALE:GREGORIAN
METHOD:PUBLISH
BEGIN:VEVENT
UID:ais-763-9147aad6-cad4-47d8-be99-0da844c6684e
DTSTAMP:20260423T212032Z
DTSTART:20260506T074000Z
DTEND:20260506T081500Z
SUMMARY:The Energy-Optimised Airside: Powering a Sustainable Future
DESCRIPTION:Speakers: Nicolas Sauvage & Ilya Burkin\\n\\nOverview: Aimed 
 at driving energy efficiency across airside operations.\\n\\nThis initiat
 ive emphasizes the development and integration of innovative products\, s
 ervices\, and solutions that target energy optimization\, reduction in CO
 2 emissions and other carbon reduction strategies\, contributing signific
 antly to our environmental sustainability goals.\\n\\n&nbsp\;
URL:https://airsideinnovationsummit.com/agenda
END:VEVENT
END:VCALENDAR
