BEGIN:VCALENDAR
VERSION:2.0
PRODID:-//AIS//Agenda//EN
CALSCALE:GREGORIAN
METHOD:PUBLISH
BEGIN:VEVENT
UID:ais-767-54c77afa-b85c-4013-a6ed-3344377334f5
DTSTAMP:20260423T211555Z
DTSTART:20260506T080000Z
DTEND:20260506T081000Z
SUMMARY:USE CASE : Smart Energy Insights
DESCRIPTION:Speakers: Nicolas Sauvage\\n\\nOverview: Highlights how granu
 lar energy analytics empower airports to identify inefficiencies\, optimi
 se usage\, and accelerate sustainability goals.
URL:https://airsideinnovationsummit.com/agenda
END:VEVENT
END:VCALENDAR
