BEGIN:VCALENDAR
VERSION:2.0
PRODID:-//AIS//Agenda//EN
CALSCALE:GREGORIAN
METHOD:PUBLISH
BEGIN:VEVENT
UID:ais-769-5c8f06b4-daaf-4756-a489-ee922c90402c
DTSTAMP:20260423T211133Z
DTSTART:20260506T080500Z
DTEND:20260506T090500Z
SUMMARY:USE CASE : Fuel Burn Reduction Through Gate Visibility
DESCRIPTION:Speakers: Nicolas Sauvage\\n\\nOverview: Demonstrates how imp
 roved gate and stand visibility reduces taxiing time and fuel burn\, deli
 vering immediate sustainability and cost benefits.
URL:https://airsideinnovationsummit.com/agenda
END:VEVENT
END:VCALENDAR
