BEGIN:VCALENDAR
VERSION:2.0
PRODID:-//AIS//Agenda//EN
CALSCALE:GREGORIAN
METHOD:PUBLISH
BEGIN:VEVENT
UID:ais-771-954ba97a-1df2-46ad-99e7-9d28bb033d39
DTSTAMP:20260423T205647Z
DTSTART:20260506T081500Z
DTEND:20260506T083000Z
SUMMARY:Airside 2035: Innovation\, Intelligence &#038\; What Comes Next
DESCRIPTION:Speakers: Ilya Burkin & Kaili Delp\\n\\nOverview: A forward-l
 ooking conversation with VP of Airfield exploring the technologies\, tren
 ds\, and operational shifts that will define the airside of the future.
URL:https://airsideinnovationsummit.com/agenda
END:VEVENT
END:VCALENDAR
