BEGIN:VCALENDAR
VERSION:2.0
PRODID:-//AIS//Agenda//EN
CALSCALE:GREGORIAN
METHOD:PUBLISH
BEGIN:VEVENT
UID:ais-774-45c44601-fcf7-44b8-af20-0451092946e5
DTSTAMP:20260423T205708Z
DTSTART:20260506T082000Z
DTEND:20260506T082500Z
SUMMARY:Closing of Summit: Shaping the Future of the Airside — Together
DESCRIPTION:Speakers: Ilya Burkin & Regardt Willer\\n\\nOverview: A closi
 ng reflection summarising the insights of the Summit and outlining the co
 llaborative steps required to build a smarter\, safer\, greener airside.
URL:https://airsideinnovationsummit.com/agenda
END:VEVENT
END:VCALENDAR
