BEGIN:VCALENDAR
VERSION:2.0
PRODID:-//AIS//Agenda//EN
CALSCALE:GREGORIAN
METHOD:PUBLISH
BEGIN:VEVENT
UID:ais-839-d4e2f9a1-023f-48e9-9cf3-316462c7fb66
DTSTAMP:20260423T205810Z
DTSTART:20260506T143500Z
DTEND:20260506T145500Z
SUMMARY:Modernizing the Americas Airside: Resilience\, Digitalisation &#0
 38\; Growth
DESCRIPTION:Speakers: Regardt Willer\, Turgay Kırçar\, & Michael Youngs
 \\n\\nOverview: Experts from across the North and South America examine m
 odernization\, resilience planning\, and how digital transformation can b
 ridge operational fragmentation across the region.
URL:https://airsideinnovationsummit.com/agenda
END:VEVENT
END:VCALENDAR
